Package: scTreeViz Version: 1.8.0 Command: rm -rf scTreeViz.buildbin-libdir && mkdir scTreeViz.buildbin-libdir && /Users/biocbuild/BBS/utils/build-universal.sh scTreeViz_1.8.0.tar.gz /Library/Frameworks/R.framework/Resources/bin/R scTreeViz.buildbin-libdir StartedAt: 2024-04-16 12:42:20 -0400 (Tue, 16 Apr 2024) EndedAt: 2024-04-16 12:44:52 -0400 (Tue, 16 Apr 2024) EllapsedTime: 152.0 seconds RetCode: 0 Status: OK PackageFile: scTreeViz_1.8.0.tgz PackageFileSize: 2.61 MiB