Package: scTreeViz Version: 1.8.0 Command: /home/biocbuild/R/R-4.3.1/bin/R CMD INSTALL scTreeViz StartedAt: 2023-11-01 20:57:23 -0000 (Wed, 01 Nov 2023) EndedAt: 2023-11-01 20:58:56 -0000 (Wed, 01 Nov 2023) EllapsedTime: 93.3 seconds RetCode: 0 Status: OK