Package: scRecover Version: 1.18.0 Command: /home/biocbuild/bbs-3.18-bioc/R/bin/R CMD check --install=check:scRecover.install-out.txt --library=/home/biocbuild/bbs-3.18-bioc/R/site-library --timings scRecover_1.18.0.tar.gz StartedAt: 2024-04-16 03:40:25 -0400 (Tue, 16 Apr 2024) EndedAt: 2024-04-16 03:45:15 -0400 (Tue, 16 Apr 2024) EllapsedTime: 290.4 seconds RetCode: 0 Status: OK CheckDir: scRecover.Rcheck Warnings: 0