Package: scPCA Version: 1.16.0 Command: /home/biocbuild/bbs-3.18-bioc/R/bin/R CMD check --install=check:scPCA.install-out.txt --library=/home/biocbuild/bbs-3.18-bioc/R/site-library --timings scPCA_1.16.0.tar.gz StartedAt: 2024-04-16 03:39:59 -0400 (Tue, 16 Apr 2024) EndedAt: 2024-04-16 03:51:50 -0400 (Tue, 16 Apr 2024) EllapsedTime: 710.8 seconds RetCode: 0 Status: OK CheckDir: scPCA.Rcheck Warnings: 0