Package: scFeatures Version: 1.3.2 Command: rm -rf scFeatures.buildbin-libdir && mkdir scFeatures.buildbin-libdir && F:\biocbuild\bbs-3.18-bioc\R\bin\R.exe CMD INSTALL --build --library=scFeatures.buildbin-libdir scFeatures_1.3.2.tar.gz StartedAt: 2024-04-16 07:38:46 -0400 (Tue, 16 Apr 2024) EndedAt: 2024-04-16 07:40:04 -0400 (Tue, 16 Apr 2024) EllapsedTime: 78.6 seconds RetCode: 0 Status: OK PackageFile: scFeatures_1.3.2.zip PackageFileSize: 3.017 MiB