Package: scFeatures Version: 1.2.0 Command: /home/biocbuild/R/R-4.3.1/bin/R CMD INSTALL scFeatures StartedAt: 2023-11-01 20:59:22 -0000 (Wed, 01 Nov 2023) EndedAt: 2023-11-01 21:00:54 -0000 (Wed, 01 Nov 2023) EllapsedTime: 91.8 seconds RetCode: 0 Status: OK