Package: scDataviz Version: 1.11.0 Command: /home/biocbuild/R/R-4.3.1/bin/R CMD check --install=check:scDataviz.install-out.txt --library=/home/biocbuild/R/R-4.3.1/site-library --timings scDataviz_1.11.0.tar.gz StartedAt: 2023-10-24 12:28:50 -0000 (Tue, 24 Oct 2023) EndedAt: 2023-10-24 12:38:55 -0000 (Tue, 24 Oct 2023) EllapsedTime: 604.9 seconds RetCode: 0 Status: OK CheckDir: scDataviz.Rcheck Warnings: 0