Package: sampleClassifier Version: 1.26.0 Command: F:\biocbuild\bbs-3.18-bioc\R\bin\R.exe CMD INSTALL sampleClassifier StartedAt: 2024-04-15 16:00:57 -0400 (Mon, 15 Apr 2024) EndedAt: 2024-04-15 16:01:19 -0400 (Mon, 15 Apr 2024) EllapsedTime: 21.4 seconds RetCode: 0 Status: OK