Package: sampleClassifier Version: 1.26.0 Command: /home/biocbuild/bbs-3.18-bioc/R/bin/R CMD check --install=check:sampleClassifier.install-out.txt --library=/home/biocbuild/bbs-3.18-bioc/R/site-library --timings sampleClassifier_1.26.0.tar.gz StartedAt: 2024-04-16 03:22:30 -0400 (Tue, 16 Apr 2024) EndedAt: 2024-04-16 03:30:45 -0400 (Tue, 16 Apr 2024) EllapsedTime: 495.2 seconds RetCode: 0 Status: OK CheckDir: sampleClassifier.Rcheck Warnings: 0