Package: sRACIPE Version: 1.18.0 Command: /home/biocbuild/bbs-3.18-bioc/R/bin/R CMD INSTALL sRACIPE StartedAt: 2024-04-15 15:24:18 -0400 (Mon, 15 Apr 2024) EndedAt: 2024-04-15 15:25:04 -0400 (Mon, 15 Apr 2024) EllapsedTime: 46.5 seconds RetCode: 0 Status: OK