Package: rRDP Version: 1.36.0 Command: /Library/Frameworks/R.framework/Resources/bin/R CMD INSTALL rRDP StartedAt: 2024-03-03 15:08:44 -0500 (Sun, 03 Mar 2024) EndedAt: 2024-03-03 15:09:00 -0500 (Sun, 03 Mar 2024) EllapsedTime: 16.4 seconds RetCode: 0 Status: OK