Package: qpgraph Version: 2.36.0 Command: /home/biocbuild/R/R-4.3.1/bin/R CMD INSTALL qpgraph StartedAt: 2023-11-01 20:27:18 -0000 (Wed, 01 Nov 2023) EndedAt: 2023-11-01 20:28:38 -0000 (Wed, 01 Nov 2023) EllapsedTime: 80.9 seconds RetCode: 0 Status: OK