Package: projectR Version: 1.18.0 Command: /home/biocbuild/bbs-3.18-bioc/R/bin/R CMD INSTALL projectR StartedAt: 2024-04-15 15:23:14 -0400 (Mon, 15 Apr 2024) EndedAt: 2024-04-15 15:23:30 -0400 (Mon, 15 Apr 2024) EllapsedTime: 16.1 seconds RetCode: 0 Status: OK