Package: proActiv Version: 1.12.0 Command: /home/biocbuild/R/R-4.3.1/bin/R CMD INSTALL proActiv StartedAt: 2023-11-01 20:56:54 -0000 (Wed, 01 Nov 2023) EndedAt: 2023-11-01 20:57:48 -0000 (Wed, 01 Nov 2023) EllapsedTime: 54.5 seconds RetCode: 0 Status: OK