Package: planet Version: 1.10.0 Command: /Library/Frameworks/R.framework/Resources/bin/R CMD INSTALL planet StartedAt: 2024-03-03 15:06:40 -0500 (Sun, 03 Mar 2024) EndedAt: 2024-03-03 15:06:59 -0500 (Sun, 03 Mar 2024) EllapsedTime: 19.8 seconds RetCode: 0 Status: OK