Package: oposSOM Version: 2.20.0 Command: /home/biocbuild/R/R-4.3.1/bin/R CMD build --keep-empty-dirs --no-resave-data oposSOM StartedAt: 2023-11-02 04:18:08 -0000 (Thu, 02 Nov 2023) EndedAt: 2023-11-02 04:19:21 -0000 (Thu, 02 Nov 2023) EllapsedTime: 73.1 seconds RetCode: 0 Status: OK PackageFile: oposSOM_2.20.0.tar.gz PackageFileSize: 13.14 MiB