Package: nucleR Version: 2.34.0 Command: /home/biocbuild/R/R-4.3.1/bin/R CMD build --keep-empty-dirs --no-resave-data nucleR StartedAt: 2023-11-02 04:08:24 -0000 (Thu, 02 Nov 2023) EndedAt: 2023-11-02 04:10:07 -0000 (Thu, 02 Nov 2023) EllapsedTime: 103.1 seconds RetCode: 0 Status: OK PackageFile: nucleR_2.34.0.tar.gz PackageFileSize: 1.755 MiB