Package: ncdfFlow Version: 2.48.0 Command: /home/biocbuild/bbs-3.18-bioc/R/bin/R CMD INSTALL ncdfFlow StartedAt: 2024-04-15 15:14:31 -0400 (Mon, 15 Apr 2024) EndedAt: 2024-04-15 15:14:46 -0400 (Mon, 15 Apr 2024) EllapsedTime: 15.2 seconds RetCode: 0 Status: OK