Package: msmsTests Version: 1.40.0 Command: rm -rf msmsTests.buildbin-libdir && mkdir msmsTests.buildbin-libdir && /Users/biocbuild/BBS/utils/build-universal.sh msmsTests_1.40.0.tar.gz /Library/Frameworks/R.framework/Resources/bin/R msmsTests.buildbin-libdir StartedAt: 2024-04-16 12:16:24 -0400 (Tue, 16 Apr 2024) EndedAt: 2024-04-16 12:17:00 -0400 (Tue, 16 Apr 2024) EllapsedTime: 36.8 seconds RetCode: 0 Status: OK PackageFile: msmsTests_1.40.0.tgz PackageFileSize: 581.8 KiB