Package: msmsEDA Version: 1.40.0 Command: /Library/Frameworks/R.framework/Resources/bin/R CMD INSTALL msmsEDA StartedAt: 2024-03-03 15:21:35 -0500 (Sun, 03 Mar 2024) EndedAt: 2024-03-03 15:21:58 -0500 (Sun, 03 Mar 2024) EllapsedTime: 23.1 seconds RetCode: 0 Status: OK