Package: msmsEDA Version: 1.40.0 Command: /Library/Frameworks/R.framework/Resources/bin/R CMD build --keep-empty-dirs --no-resave-data msmsEDA StartedAt: 2024-03-03 17:30:09 -0500 (Sun, 03 Mar 2024) EndedAt: 2024-03-03 17:30:44 -0500 (Sun, 03 Mar 2024) EllapsedTime: 34.8 seconds RetCode: 0 Status: OK PackageFile: msmsEDA_1.40.0.tar.gz PackageFileSize: 439.3 KiB