Package: msmsEDA Version: 1.40.0 Command: rm -rf msmsEDA.buildbin-libdir && mkdir msmsEDA.buildbin-libdir && /Users/biocbuild/BBS/utils/build-universal.sh msmsEDA_1.40.0.tar.gz /Library/Frameworks/R.framework/Resources/bin/R msmsEDA.buildbin-libdir StartedAt: 2024-03-04 00:52:17 -0500 (Mon, 04 Mar 2024) EndedAt: 2024-03-04 00:52:41 -0500 (Mon, 04 Mar 2024) EllapsedTime: 24.4 seconds RetCode: 0 Status: OK PackageFile: msmsEDA_1.40.0.tgz PackageFileSize: 494.7 KiB