Package: msmsEDA Version: 1.40.0 Command: /home/biocbuild/R/R-4.3.1/bin/R CMD build --keep-empty-dirs --no-resave-data msmsEDA StartedAt: 2023-11-02 03:46:47 -0000 (Thu, 02 Nov 2023) EndedAt: 2023-11-02 03:47:18 -0000 (Thu, 02 Nov 2023) EllapsedTime: 31.0 seconds RetCode: 0 Status: OK PackageFile: msmsEDA_1.40.0.tar.gz PackageFileSize: 433 KiB