Package: microbiomeExplorer Version: 1.12.0 Command: /home/biocbuild/R/R-4.3.1/bin/R CMD build --keep-empty-dirs --no-resave-data microbiomeExplorer StartedAt: 2023-11-02 03:27:36 -0000 (Thu, 02 Nov 2023) EndedAt: 2023-11-02 03:28:25 -0000 (Thu, 02 Nov 2023) EllapsedTime: 49.1 seconds RetCode: 0 Status: OK PackageFile: microbiomeExplorer_1.12.0.tar.gz PackageFileSize: 3.56 MiB