Package: methrix Version: 1.16.0 Command: /home/biocbuild/bbs-3.18-bioc/R/bin/R CMD build --keep-empty-dirs --no-resave-data methrix StartedAt: 2024-04-15 17:52:26 -0400 (Mon, 15 Apr 2024) EndedAt: 2024-04-15 17:55:47 -0400 (Mon, 15 Apr 2024) EllapsedTime: 200.6 seconds RetCode: 0 Status: OK PackageFile: methrix_1.16.0.tar.gz PackageFileSize: 3.951 MiB