Package: methrix Version: 1.16.0 Command: /Library/Frameworks/R.framework/Resources/bin/R CMD build --keep-empty-dirs --no-resave-data methrix StartedAt: 2024-04-15 19:54:36 -0400 (Mon, 15 Apr 2024) EndedAt: 2024-04-15 20:00:09 -0400 (Mon, 15 Apr 2024) EllapsedTime: 333.8 seconds RetCode: 0 Status: OK PackageFile: methrix_1.16.0.tar.gz PackageFileSize: 4.078 MiB