Package: mastR Version: 1.2.3 Command: /home/biocbuild/bbs-3.18-bioc/R/bin/R CMD build --keep-empty-dirs --no-resave-data mastR StartedAt: 2024-04-15 17:47:02 -0400 (Mon, 15 Apr 2024) EndedAt: 2024-04-15 17:49:19 -0400 (Mon, 15 Apr 2024) EllapsedTime: 136.3 seconds RetCode: 0 Status: OK PackageFile: mastR_1.2.3.tar.gz PackageFileSize: 2.721 MiB