Package: maCorrPlot Version: 1.72.0 Command: rm -rf maCorrPlot.buildbin-libdir && mkdir maCorrPlot.buildbin-libdir && /Users/biocbuild/BBS/utils/build-universal.sh maCorrPlot_1.72.0.tar.gz /Library/Frameworks/R.framework/Resources/bin/R maCorrPlot.buildbin-libdir StartedAt: 2024-03-04 00:48:26 -0500 (Mon, 04 Mar 2024) EndedAt: 2024-03-04 00:48:31 -0500 (Mon, 04 Mar 2024) EllapsedTime: 5.8 seconds RetCode: 0 Status: OK PackageFile: maCorrPlot_1.72.0.tgz PackageFileSize: 1.168 MiB