Package: lfa Version: 2.2.0 Command: /home/biocbuild/bbs-3.18-bioc/R/bin/R CMD INSTALL lfa StartedAt: 2024-04-15 15:07:07 -0400 (Mon, 15 Apr 2024) EndedAt: 2024-04-15 15:07:36 -0400 (Mon, 15 Apr 2024) EllapsedTime: 28.2 seconds RetCode: 0 Status: OK