Package: iterClust Version: 1.24.0 Command: rm -rf iterClust.buildbin-libdir && mkdir iterClust.buildbin-libdir && /Users/biocbuild/BBS/utils/build-universal.sh iterClust_1.24.0.tar.gz /Library/Frameworks/R.framework/Resources/bin/R iterClust.buildbin-libdir StartedAt: 2024-03-04 00:47:25 -0500 (Mon, 04 Mar 2024) EndedAt: 2024-03-04 00:47:32 -0500 (Mon, 04 Mar 2024) EllapsedTime: 6.8 seconds RetCode: 0 Status: OK PackageFile: iterClust_1.24.0.tgz PackageFileSize: 141.9 KiB