Package: iNETgrate Version: 1.0.0 Command: /Library/Frameworks/R.framework/Resources/bin/R CMD INSTALL iNETgrate StartedAt: 2024-03-03 15:41:45 -0500 (Sun, 03 Mar 2024) EndedAt: 2024-03-03 15:43:10 -0500 (Sun, 03 Mar 2024) EllapsedTime: 84.6 seconds RetCode: 0 Status: OK