Package: gsean Version: 1.22.0 Command: /Library/Frameworks/R.framework/Resources/bin/R CMD build --keep-empty-dirs --no-resave-data gsean StartedAt: 2024-03-03 16:57:58 -0500 (Sun, 03 Mar 2024) EndedAt: 2024-03-03 16:59:19 -0500 (Sun, 03 Mar 2024) EllapsedTime: 80.9 seconds RetCode: 0 Status: OK PackageFile: gsean_1.22.0.tar.gz PackageFileSize: 1.535 MiB