Package: flowPloidy Version: 1.28.0 Command: /home/biocbuild/bbs-3.18-bioc/R/bin/R CMD build --keep-empty-dirs --no-resave-data flowPloidy StartedAt: 2024-04-15 17:07:33 -0400 (Mon, 15 Apr 2024) EndedAt: 2024-04-15 17:07:58 -0400 (Mon, 15 Apr 2024) EllapsedTime: 24.8 seconds RetCode: 0 Status: OK PackageFile: flowPloidy_1.28.0.tar.gz PackageFileSize: 2.332 MiB