Package: flowMerge Version: 2.50.0 Command: /home/biocbuild/bbs-3.18-bioc/R/bin/R CMD INSTALL flowMerge StartedAt: 2024-04-15 15:16:23 -0400 (Mon, 15 Apr 2024) EndedAt: 2024-04-15 15:16:38 -0400 (Mon, 15 Apr 2024) EllapsedTime: 15.4 seconds RetCode: 0 Status: OK