Package: flowDensity Version: 1.36.1 Command: /home/biocbuild/R/R-4.3.1/bin/R CMD build --keep-empty-dirs --no-resave-data flowDensity StartedAt: 2023-11-02 01:09:58 -0000 (Thu, 02 Nov 2023) EndedAt: 2023-11-02 01:09:59 -0000 (Thu, 02 Nov 2023) EllapsedTime: 1.0 seconds RetCode: 0 Status: OK PackageFile: flowDensity_1.36.1.tar.gz PackageFileSize: 4.295 MiB