Package: flowBin Version: 1.38.0 Command: /home/biocbuild/bbs-3.18-bioc/R/bin/R CMD INSTALL flowBin StartedAt: 2024-04-15 15:15:09 -0400 (Mon, 15 Apr 2024) EndedAt: 2024-04-15 15:15:21 -0400 (Mon, 15 Apr 2024) EllapsedTime: 12.2 seconds RetCode: 0 Status: OK