Package: flowBin Version: 1.38.0 Command: /home/biocbuild/bbs-3.18-bioc/R/bin/R CMD build --keep-empty-dirs --no-resave-data flowBin StartedAt: 2024-04-15 17:06:05 -0400 (Mon, 15 Apr 2024) EndedAt: 2024-04-15 17:06:29 -0400 (Mon, 15 Apr 2024) EllapsedTime: 23.5 seconds RetCode: 0 Status: OK PackageFile: flowBin_1.38.0.tar.gz PackageFileSize: 481.2 KiB