Package: esetVis Version: 1.28.2 Command: /home/biocbuild/bbs-3.18-bioc/R/bin/R CMD build --keep-empty-dirs --no-resave-data esetVis StartedAt: 2024-04-15 17:01:38 -0400 (Mon, 15 Apr 2024) EndedAt: 2024-04-15 17:03:05 -0400 (Mon, 15 Apr 2024) EllapsedTime: 86.8 seconds RetCode: 0 Status: OK PackageFile: esetVis_1.28.2.tar.gz PackageFileSize: 2.96 MiB