Package: enrichTF Version: 1.18.0 Command: /home/biocbuild/bbs-3.18-bioc/R/bin/R CMD INSTALL enrichTF StartedAt: 2024-04-15 15:46:47 -0400 (Mon, 15 Apr 2024) EndedAt: 2024-04-15 15:47:37 -0400 (Mon, 15 Apr 2024) EllapsedTime: 50.6 seconds RetCode: 0 Status: OK