Package: dce Version: 1.10.0 Command: /home/biocbuild/bbs-3.18-bioc/R/bin/R CMD build --keep-empty-dirs --no-resave-data dce StartedAt: 2024-04-15 16:43:23 -0400 (Mon, 15 Apr 2024) EndedAt: 2024-04-15 16:45:41 -0400 (Mon, 15 Apr 2024) EllapsedTime: 138.1 seconds RetCode: 0 Status: OK PackageFile: dce_1.10.0.tar.gz PackageFileSize: 2.816 MiB