Package: crisprViz Version: 1.4.0 Command: /home/biocbuild/bbs-3.18-bioc/R/bin/R CMD build --keep-empty-dirs --no-resave-data crisprViz StartedAt: 2024-04-15 16:39:11 -0400 (Mon, 15 Apr 2024) EndedAt: 2024-04-15 16:41:29 -0400 (Mon, 15 Apr 2024) EllapsedTime: 137.9 seconds RetCode: 0 Status: OK PackageFile: crisprViz_1.4.0.tar.gz PackageFileSize: 1.052 MiB