Package: cosmosR Version: 1.10.0 Command: /home/biocbuild/R/R-4.3.1/bin/R CMD INSTALL cosmosR StartedAt: 2023-11-01 20:32:32 -0000 (Wed, 01 Nov 2023) EndedAt: 2023-11-01 20:32:43 -0000 (Wed, 01 Nov 2023) EllapsedTime: 10.8 seconds RetCode: 0 Status: OK