Package: cosmosR Version: 1.10.0 Command: /home/biocbuild/R/R-4.3.1/bin/R CMD build --keep-empty-dirs --no-resave-data cosmosR StartedAt: 2023-11-01 23:48:06 -0000 (Wed, 01 Nov 2023) EndedAt: 2023-11-01 23:48:29 -0000 (Wed, 01 Nov 2023) EllapsedTime: 23.0 seconds RetCode: 0 Status: OK PackageFile: cosmosR_1.10.0.tar.gz PackageFileSize: 3.473 MiB