Package: consensusSeekeR Version: 1.30.0 Command: /home/biocbuild/R/R-4.3.1/bin/R CMD build --keep-empty-dirs --no-resave-data consensusSeekeR StartedAt: 2023-11-01 23:44:53 -0000 (Wed, 01 Nov 2023) EndedAt: 2023-11-01 23:45:55 -0000 (Wed, 01 Nov 2023) EllapsedTime: 62.1 seconds RetCode: 0 Status: OK PackageFile: consensusSeekeR_1.30.0.tar.gz PackageFileSize: 762.7 KiB