Package: concordexR Version: 1.2.0 Command: /home/biocbuild/R/R-4.3.1/bin/R CMD INSTALL concordexR StartedAt: 2023-11-01 20:24:43 -0000 (Wed, 01 Nov 2023) EndedAt: 2023-11-01 20:25:05 -0000 (Wed, 01 Nov 2023) EllapsedTime: 22.3 seconds RetCode: 0 Status: OK