Package: compEpiTools Version: 1.36.0 Command: /Library/Frameworks/R.framework/Resources/bin/R CMD build --keep-empty-dirs --no-resave-data compEpiTools StartedAt: 2024-03-03 16:19:39 -0500 (Sun, 03 Mar 2024) EndedAt: 2024-03-03 16:21:33 -0500 (Sun, 03 Mar 2024) EllapsedTime: 113.6 seconds RetCode: 0 Status: OK PackageFile: compEpiTools_1.36.0.tar.gz PackageFileSize: 2.162 MiB