Package: cogeqc Version: 1.6.2 Command: /home/biocbuild/bbs-3.18-bioc/R/bin/R CMD build --keep-empty-dirs --no-resave-data cogeqc StartedAt: 2024-04-15 16:33:05 -0400 (Mon, 15 Apr 2024) EndedAt: 2024-04-15 16:34:23 -0400 (Mon, 15 Apr 2024) EllapsedTime: 77.8 seconds RetCode: 0 Status: OK PackageFile: cogeqc_1.6.2.tar.gz PackageFileSize: 2.929 MiB