Package: codelink Version: 1.70.0 Command: /home/biocbuild/R/R-4.3.1/bin/R CMD build --keep-empty-dirs --no-resave-data codelink StartedAt: 2023-11-01 23:38:52 -0000 (Wed, 01 Nov 2023) EndedAt: 2023-11-01 23:39:33 -0000 (Wed, 01 Nov 2023) EllapsedTime: 41.1 seconds RetCode: 0 Status: OK PackageFile: codelink_1.70.0.tar.gz PackageFileSize: 3.17 MiB