Package: cmapR Version: 1.14.0 Command: /home/biocbuild/R/R-4.3.1/bin/R CMD build --keep-empty-dirs --no-resave-data cmapR StartedAt: 2023-11-01 23:35:57 -0000 (Wed, 01 Nov 2023) EndedAt: 2023-11-01 23:37:18 -0000 (Wed, 01 Nov 2023) EllapsedTime: 81.1 seconds RetCode: 0 Status: OK PackageFile: cmapR_1.14.0.tar.gz PackageFileSize: 3.762 MiB