Package: cleaver Version: 1.40.0 Command: /home/biocbuild/R/R-4.3.1/bin/R CMD INSTALL cleaver StartedAt: 2023-11-01 20:10:25 -0000 (Wed, 01 Nov 2023) EndedAt: 2023-11-01 20:10:38 -0000 (Wed, 01 Nov 2023) EllapsedTime: 13.5 seconds RetCode: 0 Status: OK